BEGIN:VCALENDAR
VERSION:2.0
PRODID:-//BRICK&amp;NUM - ECPv6.15.14//NONSGML v1.0//EN
CALSCALE:GREGORIAN
METHOD:PUBLISH
X-WR-CALNAME:BRICK&amp;NUM
X-ORIGINAL-URL:https://www.brickandnum.fr
X-WR-CALDESC:Évènements pour BRICK&amp;NUM
REFRESH-INTERVAL;VALUE=DURATION:PT1H
X-Robots-Tag:noindex
X-PUBLISHED-TTL:PT1H
BEGIN:VTIMEZONE
TZID:Europe/Paris
BEGIN:DAYLIGHT
TZOFFSETFROM:+0100
TZOFFSETTO:+0200
TZNAME:CEST
DTSTART:20240331T010000
END:DAYLIGHT
BEGIN:STANDARD
TZOFFSETFROM:+0200
TZOFFSETTO:+0100
TZNAME:CET
DTSTART:20241027T010000
END:STANDARD
BEGIN:DAYLIGHT
TZOFFSETFROM:+0100
TZOFFSETTO:+0200
TZNAME:CEST
DTSTART:20250330T010000
END:DAYLIGHT
BEGIN:STANDARD
TZOFFSETFROM:+0200
TZOFFSETTO:+0100
TZNAME:CET
DTSTART:20251026T010000
END:STANDARD
BEGIN:DAYLIGHT
TZOFFSETFROM:+0100
TZOFFSETTO:+0200
TZNAME:CEST
DTSTART:20260329T010000
END:DAYLIGHT
BEGIN:STANDARD
TZOFFSETFROM:+0200
TZOFFSETTO:+0100
TZNAME:CET
DTSTART:20261025T010000
END:STANDARD
END:VTIMEZONE
BEGIN:VEVENT
DTSTART;TZID=Europe/Paris:20250927T100000
DTEND;TZID=Europe/Paris:20250927T120000
DTSTAMP:20260421T182012
CREATED:20250912T080540Z
LAST-MODIFIED:20250912T080905Z
UID:1223-1758967200-1758974400@www.brickandnum.fr
SUMMARY:BRIQUE / GEEK - DÉCOUVRE SPACE INVADERS ET PAC-MAN
DESCRIPTION:Les samedis matins\, on brique chez BRICK&NUM !A l’aide de briques\, viens découvrir les jeux vidéos retro tels que PACMAN\, SPACE INVADERS\, Megaman… Essaie-même les jeux et construis un personnage avec des briques et repars avec!\nTarif : 15€ \nPour réserver\, plusieurs méthodes :\n– En réservant et en payant directement en ligne sur https://www.billetweb.fr/decouvre-space-invaders-et-pac-man\nOù réserver une place en nous contacter soit par :\n> Mail : brickandnum@gmail.com\n> Via Facebook : http://www.facebook.com/brickandnum\n> Via Instagram : https://www.instagram.com/brick_num/\n> Par téléphone au 06 58 10 65 45\nPaiement sur place
URL:https://www.brickandnum.fr/event/brique-geek-decouvre-space-invaders-et-pac-man/
LOCATION:SO WATT\, 37 avenue du Maréchal de Lattre de Tassigny\, Saint André Lez Lille\, 59350\, France
CATEGORIES:BRIQUE
ATTACH;FMTTYPE=image/png:https://www.brickandnum.fr/wp-content/uploads/2025/09/SAMEDI-BRIQUES.webp
END:VEVENT
END:VCALENDAR