BEGIN:VCALENDAR
VERSION:2.0
PRODID:-//BRICK&amp;NUM - ECPv6.15.14//NONSGML v1.0//EN
CALSCALE:GREGORIAN
METHOD:PUBLISH
X-ORIGINAL-URL:https://www.brickandnum.fr
X-WR-CALDESC:Évènements pour BRICK&amp;NUM
REFRESH-INTERVAL;VALUE=DURATION:PT1H
X-Robots-Tag:noindex
X-PUBLISHED-TTL:PT1H
BEGIN:VTIMEZONE
TZID:Europe/Paris
BEGIN:DAYLIGHT
TZOFFSETFROM:+0100
TZOFFSETTO:+0200
TZNAME:CEST
DTSTART:20240331T010000
END:DAYLIGHT
BEGIN:STANDARD
TZOFFSETFROM:+0200
TZOFFSETTO:+0100
TZNAME:CET
DTSTART:20241027T010000
END:STANDARD
BEGIN:DAYLIGHT
TZOFFSETFROM:+0100
TZOFFSETTO:+0200
TZNAME:CEST
DTSTART:20250330T010000
END:DAYLIGHT
BEGIN:STANDARD
TZOFFSETFROM:+0200
TZOFFSETTO:+0100
TZNAME:CET
DTSTART:20251026T010000
END:STANDARD
BEGIN:DAYLIGHT
TZOFFSETFROM:+0100
TZOFFSETTO:+0200
TZNAME:CEST
DTSTART:20260329T010000
END:DAYLIGHT
BEGIN:STANDARD
TZOFFSETFROM:+0200
TZOFFSETTO:+0100
TZNAME:CET
DTSTART:20261025T010000
END:STANDARD
END:VTIMEZONE
BEGIN:VEVENT
DTSTART;TZID=Europe/Paris:20251001T143000
DTEND;TZID=Europe/Paris:20251001T163000
DTSTAMP:20260421T164207
CREATED:20250929T070941Z
LAST-MODIFIED:20250929T071409Z
UID:2215-1759329000-1759336200@www.brickandnum.fr
SUMMARY:BRIQUE - Atelier briques en folie ! Viens construire et relever des défis !
DESCRIPTION:Les mercredis des petits Brickers\, ce sont des ateliers ludiques et amusants à destination des enfants âgés de 6 à 10 ans. \nPendant deux heures\, viens montrer tes talents de constructeurs ou aussi apprendre des techniques de construction !\nDe nombreux défis t’attendent également.\nTu aime jouer avec des briques de constructions ? Cet atelier est fait pour toi. \nTARIF : 12€ \n—————————————————————————————- \n\n\n   Durée de l’atelier 2 heures\n   Maximum 8 personnes\n   RDV devant le grand logo SO WATT à l’extérieur\n\n\n\nRESERVATION DE L'ATELIER\n- En réservant et en payant directement en ligne sur https://www.billetweb.fr/atelier-briques-en-folie-viens-construire-et-relever-des-defis\nOù réserver une place en nous contacter soit par :\n> Mail : brickandnum@gmail.com\n> Via Facebook : http://www.facebook.com/brickandnum\n> Via Instagram : https://www.instagram.com/brick_num/\n> Par téléphone au 06 58 10 65 45\n\nPAIEMENT\n- En ligne via la billetterie de l’évènement\n- Sur place en espèce et en CB
URL:https://www.brickandnum.fr/event/atelier-briques-en-folie-viens-construire-et-relever-des-defis/
LOCATION:SO WATT\, 37 avenue du Maréchal de Lattre de Tassigny\, Saint André Lez Lille\, 59350\, France
CATEGORIES:BRIQUE
ATTACH;FMTTYPE=image/jpeg:https://www.brickandnum.fr/wp-content/uploads/2025/09/539501283_122143496540743240_3176055051942912287_n.webp
END:VEVENT
END:VCALENDAR