BEGIN:VCALENDAR
VERSION:2.0
PRODID:-//BRICK&amp;NUM - ECPv6.15.14//NONSGML v1.0//EN
CALSCALE:GREGORIAN
METHOD:PUBLISH
X-ORIGINAL-URL:https://www.brickandnum.fr
X-WR-CALDESC:Évènements pour BRICK&amp;NUM
REFRESH-INTERVAL;VALUE=DURATION:PT1H
X-Robots-Tag:noindex
X-PUBLISHED-TTL:PT1H
BEGIN:VTIMEZONE
TZID:Europe/Paris
BEGIN:DAYLIGHT
TZOFFSETFROM:+0100
TZOFFSETTO:+0200
TZNAME:CEST
DTSTART:20240331T010000
END:DAYLIGHT
BEGIN:STANDARD
TZOFFSETFROM:+0200
TZOFFSETTO:+0100
TZNAME:CET
DTSTART:20241027T010000
END:STANDARD
BEGIN:DAYLIGHT
TZOFFSETFROM:+0100
TZOFFSETTO:+0200
TZNAME:CEST
DTSTART:20250330T010000
END:DAYLIGHT
BEGIN:STANDARD
TZOFFSETFROM:+0200
TZOFFSETTO:+0100
TZNAME:CET
DTSTART:20251026T010000
END:STANDARD
BEGIN:DAYLIGHT
TZOFFSETFROM:+0100
TZOFFSETTO:+0200
TZNAME:CEST
DTSTART:20260329T010000
END:DAYLIGHT
BEGIN:STANDARD
TZOFFSETFROM:+0200
TZOFFSETTO:+0100
TZNAME:CET
DTSTART:20261025T010000
END:STANDARD
END:VTIMEZONE
BEGIN:VEVENT
DTSTART;TZID=Europe/Paris:20251021T093000
DTEND;TZID=Europe/Paris:20251021T120000
DTSTAMP:20260421T164127
CREATED:20250929T072937Z
LAST-MODIFIED:20251010T091009Z
UID:2226-1761039000-1761048000@www.brickandnum.fr
SUMMARY:NUMERIQUE - BRIQUES - Des briques\, une idée… et l’IA transforme ta création en véritable mini-film !
DESCRIPTION:Des briques\, une idée… et l’IA transforme ta création en véritable mini-film !\nMets toi dans la peau d’un réalisateur nouvelle génération ! Avec des briques de constructions et avec l’aide de l’IA\, créer des courts métrages originaux !\n\n\n\nPendant 2h30\, imagine des mini scène avec des LEGO et des personnages et ensuite donne vie à ces dernières avec l’intelligence artificielle pour monter ton premier court métrage nouvelle génération !\n\n\n\nDurant l’atelier nous allons :– imaginer & concevoir des histoires– construire avec des LEGO– découvrir des outils numériques tels que l’IA\, montage vidéo…\n\n\n\n\nCet atelier est proposé dans le cadre d’un stage. Il peut être réservé seul ou si vous préférez réserver le stage complet de 4 séances\, retournez dans l’agenda et sélectionner le stage. \n TARIF : 30€ \n—————————————————————————————- \n\n\n   Durée de l’atelier 2h30\n   Maximum 8 personnes\n   RDV devant le grand logo SO WATT à l’extérieur\n\n\n\nRESERVATION DE L'ATELIER\n- En réservant et en payant directement en ligne sur https://www.billetweb.fr/des-briques-une-idee-et-l-ia-transforme-ta-creation-en-veritable-mini-film\nOù réserver une place en nous contacter soit par :\n> Mail : brickandnum@gmail.com\n> Via Facebook : http://www.facebook.com/brickandnum\n> Via Instagram : https://www.instagram.com/brick_num/\n> Par téléphone au 06 58 10 65 45\n\nPAIEMENT\n- En ligne via la billetterie de l’évènement\n- Sur place en espèce et en CB
URL:https://www.brickandnum.fr/event/numerique-briques-des-briques-une-idee-et-lia-transforme-ta-creation-en-veritable-mini-film/
LOCATION:SO WATT\, 37 avenue du Maréchal de Lattre de Tassigny\, Saint André Lez Lille\, 59350\, France
CATEGORIES:BRIQUE,NUMERIQUE
ATTACH;FMTTYPE=image/png:https://www.brickandnum.fr/wp-content/uploads/2025/09/Atelier-BRIQUE-IA2.webp
END:VEVENT
BEGIN:VEVENT
DTSTART;TZID=Europe/Paris:20251021T143000
DTEND;TZID=Europe/Paris:20251021T170000
DTSTAMP:20260421T164127
CREATED:20250929T073410Z
LAST-MODIFIED:20251010T090809Z
UID:2229-1761057000-1761066000@www.brickandnum.fr
SUMMARY:BRIQUE - L’Empire revient : construis & imagine à l’aide de briques… que la Force soit avec toi !
DESCRIPTION:L’Empire revient : construis & imagine à l’aide de briques… que la Force soit avec toi !\nQue la brique soit avec toi ! Plonge dans une galaxie lointaine\, très lointaine… et embarque pour une aventure intergalactique où créativité et imagination sont les maîtres Jedi. Pendant cet atelier\, nous allons inventer des scènes de l’univers\, imaginer des nouveaux vaisseaux et relever un tas de petits défis trop cool !\n\nDurant l’atelier nous allons :– imaginer des histoires– construire avec des LEGO– prendre des photos trop cool– découvrir l’univers Star Wars\n\nTARIF : 30€ \nCet atelier est proposé dans le cadre d’un stage. Il peut être réservé seul ou si vous préférez réserver le stage complet de 4 séances\, retournez dans l’agenda et sélectionner le stage. \n—————————————————————————————- \n\n\n   Durée de l’atelier 2h30\n   Maximum 8 personnes\n   RDV devant le grand logo SO WATT à l’extérieur\n\n\n\nRESERVATION DE L'ATELIER\n- En réservant et en payant directement en ligne sur https://www.billetweb.fr/l-empire-revient-construis-imagine-a-l-aide-de-briques-que-la-force-soit-avec-toi\nOù réserver une place en nous contacter soit par :\n> Mail : brickandnum@gmail.com\n> Via Facebook : http://www.facebook.com/brickandnum\n> Via Instagram : https://www.instagram.com/brick_num/\n> Par téléphone au 06 58 10 65 45\n\nPAIEMENT\n- En ligne via la billetterie de l’évènement\n- Sur place en espèce et en CB
URL:https://www.brickandnum.fr/event/brique-lempire-revient-construis-imagine-a-laide-de-briques-que-la-force-soit-avec-toi/
LOCATION:SO WATT\, 37 avenue du Maréchal de Lattre de Tassigny\, Saint André Lez Lille\, 59350\, France
CATEGORIES:BRIQUE
ATTACH;FMTTYPE=image/png:https://www.brickandnum.fr/wp-content/uploads/2025/09/BRIQUE-STARWARS1.webp
END:VEVENT
END:VCALENDAR