BEGIN:VCALENDAR
VERSION:2.0
PRODID:-//BRICK&amp;NUM - ECPv6.15.14//NONSGML v1.0//EN
CALSCALE:GREGORIAN
METHOD:PUBLISH
X-ORIGINAL-URL:https://www.brickandnum.fr
X-WR-CALDESC:Évènements pour BRICK&amp;NUM
REFRESH-INTERVAL;VALUE=DURATION:PT1H
X-Robots-Tag:noindex
X-PUBLISHED-TTL:PT1H
BEGIN:VTIMEZONE
TZID:Europe/Paris
BEGIN:DAYLIGHT
TZOFFSETFROM:+0100
TZOFFSETTO:+0200
TZNAME:CEST
DTSTART:20240331T010000
END:DAYLIGHT
BEGIN:STANDARD
TZOFFSETFROM:+0200
TZOFFSETTO:+0100
TZNAME:CET
DTSTART:20241027T010000
END:STANDARD
BEGIN:DAYLIGHT
TZOFFSETFROM:+0100
TZOFFSETTO:+0200
TZNAME:CEST
DTSTART:20250330T010000
END:DAYLIGHT
BEGIN:STANDARD
TZOFFSETFROM:+0200
TZOFFSETTO:+0100
TZNAME:CET
DTSTART:20251026T010000
END:STANDARD
BEGIN:DAYLIGHT
TZOFFSETFROM:+0100
TZOFFSETTO:+0200
TZNAME:CEST
DTSTART:20260329T010000
END:DAYLIGHT
BEGIN:STANDARD
TZOFFSETFROM:+0200
TZOFFSETTO:+0100
TZNAME:CET
DTSTART:20261025T010000
END:STANDARD
END:VTIMEZONE
BEGIN:VEVENT
DTSTART;TZID=Europe/Paris:20251022T143000
DTEND;TZID=Europe/Paris:20251022T170000
DTSTAMP:20260421T164302
CREATED:20250929T080032Z
LAST-MODIFIED:20251010T125820Z
UID:2233-1761143400-1761152400@www.brickandnum.fr
SUMMARY:BRIQUE - Plonge dans le monde Steampunk et donne vie à ta scène en briques !
DESCRIPTION:Bienvenue dans un monde où la vapeur propulse les rêves et où les engrenages donnent vie à des machines extraordinaires ! Cet atelier invite petits et grands à explorer l’univers Steampunk à travers la construction de décors\, véhicules et inventions en briques LEGO. \nCe que allons faire :\n– Découvrir le monde du Steampunk via quelques références\n– Imaginer et construire des véhicules / machines imaginaires\n– Mettre en scène notre véhicule / machine dans un monde imaginaire\n– Découvrir des techniques de montage\n– Immortaliser l’ensemble via des photos et vidéos \nTARIF : 30€ \n\nCet atelier est proposé dans le cadre d’un stage. Il peut être réservé seul ou si vous préférez réserver le stage complet de 4 séances\, retournez dans l’agenda et sélectionner le stage. \n\n—————————————————————————————- \n\n\n   Durée de l’atelier 2h30\n   Maximum 8 personnes\n   RDV devant le grand logo SO WATT à l’extérieur\n\n\n\nRESERVATION DE L'ATELIER\n- En réservant et en payant directement en ligne sur https://www.billetweb.fr/plonge-dans-le-monde-steampunk-et-donne-vie-a-ta-scene-en-briques\nOù réserver une place en nous contacter soit par :\n> Mail : brickandnum@gmail.com\n> Via Facebook : http://www.facebook.com/brickandnum\n> Via Instagram : https://www.instagram.com/brick_num/\n> Par téléphone au 06 58 10 65 45\n\nPAIEMENT\n- En ligne via la billetterie de l’évènement\n- Sur place en espèce et en CB
URL:https://www.brickandnum.fr/event/brique-plonge-dans-le-monde-steampunk-et-donne-vie-a-ta-scene-en-briques/
LOCATION:SO WATT\, 37 avenue du Maréchal de Lattre de Tassigny\, Saint André Lez Lille\, 59350\, France
CATEGORIES:BRIQUE
ATTACH;FMTTYPE=image/png:https://www.brickandnum.fr/wp-content/uploads/2025/09/BRIQUE-STEAMPUNK.webp
END:VEVENT
END:VCALENDAR