BEGIN:VCALENDAR
VERSION:2.0
PRODID:-//BRICK&amp;NUM - ECPv6.15.14//NONSGML v1.0//EN
CALSCALE:GREGORIAN
METHOD:PUBLISH
X-ORIGINAL-URL:https://www.brickandnum.fr
X-WR-CALDESC:Évènements pour BRICK&amp;NUM
REFRESH-INTERVAL;VALUE=DURATION:PT1H
X-Robots-Tag:noindex
X-PUBLISHED-TTL:PT1H
BEGIN:VTIMEZONE
TZID:Europe/Paris
BEGIN:DAYLIGHT
TZOFFSETFROM:+0100
TZOFFSETTO:+0200
TZNAME:CEST
DTSTART:20240331T010000
END:DAYLIGHT
BEGIN:STANDARD
TZOFFSETFROM:+0200
TZOFFSETTO:+0100
TZNAME:CET
DTSTART:20241027T010000
END:STANDARD
BEGIN:DAYLIGHT
TZOFFSETFROM:+0100
TZOFFSETTO:+0200
TZNAME:CEST
DTSTART:20250330T010000
END:DAYLIGHT
BEGIN:STANDARD
TZOFFSETFROM:+0200
TZOFFSETTO:+0100
TZNAME:CET
DTSTART:20251026T010000
END:STANDARD
BEGIN:DAYLIGHT
TZOFFSETFROM:+0100
TZOFFSETTO:+0200
TZNAME:CEST
DTSTART:20260329T010000
END:DAYLIGHT
BEGIN:STANDARD
TZOFFSETFROM:+0200
TZOFFSETTO:+0100
TZNAME:CET
DTSTART:20261025T010000
END:STANDARD
END:VTIMEZONE
BEGIN:VEVENT
DTSTART;TZID=Europe/Paris:20251210T143000
DTEND;TZID=Europe/Paris:20251210T160000
DTSTAMP:20260421T133943
CREATED:20251124T143212Z
LAST-MODIFIED:20251201T150054Z
UID:2744-1765377000-1765382400@www.brickandnum.fr
SUMMARY:On fait la course ? Viens construire des véhicules fous avec des briques !
DESCRIPTION:3\,2\,1 PARTEZ ! \nViens t’amuser avec BRICK&NUM et construis un véhicule fou ! Imagine et crée un véhicule qui ira le plus loin parmi tous ! 4 roues ? 8 roues ? sans roues ? Que sais-je ! Un atelier garanti fou rire et créatif !\nEn pleine construction\, il y aura en plus des handicaps qui viendront compliquer la chose ! \nDurant l’atelier nous allons :\n– tester ta créativité et ton imagination\n– imaginer et construire un ou des véhicules\n– s’affronter sur une piste !\n– et surtout s’amuser ! \nTARIF : 12€ \n—————————————————————————————-\nDurée de l’atelier 1h30\nRDV devant le grand logo SO WATT à l’extérieur \nRÉSERVATION DE L’ATELIER\n– En réservant et en payant directement en ligne sur ICI\nOù réserver une place en nous contacter soit par :\n> Mail : brickandnum@gmail.com\n> Via Facebook : http://www.facebook.com/brickandnum\n> Via Instagram : https://www.instagram.com/brick_num/\n> Par téléphone au 06 58 10 65 45 \nPAIEMENT\n– En ligne via la billetterie de l’évènement\n– Sur place en espèce et en CB
URL:https://www.brickandnum.fr/event/on-fait-la-course-viens-construire-des-vehicules-fous-avec-des-briques/
LOCATION:SO WATT\, 37 avenue du Maréchal de Lattre de Tassigny\, Saint André Lez Lille\, 59350\, France
CATEGORIES:BRIQUE
ATTACH;FMTTYPE=image/png:https://www.brickandnum.fr/wp-content/uploads/2025/11/Atelier-courses-lego-10dec.webp
END:VEVENT
END:VCALENDAR