BEGIN:VCALENDAR
VERSION:2.0
PRODID:-//BRICK&amp;NUM - ECPv6.15.14//NONSGML v1.0//EN
CALSCALE:GREGORIAN
METHOD:PUBLISH
X-ORIGINAL-URL:https://www.brickandnum.fr
X-WR-CALDESC:Évènements pour BRICK&amp;NUM
REFRESH-INTERVAL;VALUE=DURATION:PT1H
X-Robots-Tag:noindex
X-PUBLISHED-TTL:PT1H
BEGIN:VTIMEZONE
TZID:Europe/Paris
BEGIN:DAYLIGHT
TZOFFSETFROM:+0100
TZOFFSETTO:+0200
TZNAME:CEST
DTSTART:20240331T010000
END:DAYLIGHT
BEGIN:STANDARD
TZOFFSETFROM:+0200
TZOFFSETTO:+0100
TZNAME:CET
DTSTART:20241027T010000
END:STANDARD
BEGIN:DAYLIGHT
TZOFFSETFROM:+0100
TZOFFSETTO:+0200
TZNAME:CEST
DTSTART:20250330T010000
END:DAYLIGHT
BEGIN:STANDARD
TZOFFSETFROM:+0200
TZOFFSETTO:+0100
TZNAME:CET
DTSTART:20251026T010000
END:STANDARD
BEGIN:DAYLIGHT
TZOFFSETFROM:+0100
TZOFFSETTO:+0200
TZNAME:CEST
DTSTART:20260329T010000
END:DAYLIGHT
BEGIN:STANDARD
TZOFFSETFROM:+0200
TZOFFSETTO:+0100
TZNAME:CET
DTSTART:20261025T010000
END:STANDARD
END:VTIMEZONE
BEGIN:VEVENT
DTSTART;TZID=Europe/Paris:20251222T090000
DTEND;TZID=Europe/Paris:20251223T170000
DTSTAMP:20260421T134045
CREATED:20251124T143945Z
LAST-MODIFIED:20251125T084135Z
UID:2746-1766394000-1766509200@www.brickandnum.fr
SUMMARY:Stage Noël “Créa’Brick & Pixel” - Stage 1
DESCRIPTION:Le stage 1 – Créa’Brick & Pixel –OH OH IL ARRIVE se déroule sur 2 jours soit 4 demi-journée.\nNotez bien les dates de celui-ci ci-dessous : \nLundi 22 Décembre\n\n9h30 – 12h : Ramène tes boules de Noël et crée des stickers pour les personnaliser avec la découpeuse vinyle.\nPersonnalise aussi des briques !\nRéserver l’atelier \n14h30 – 17h : On revisite le traineau du Père Noël ! Construis une nouvelle version de son traineau avec des briques !\nQui sera le plus fun ? le plus original ?\nRéserver l’atelier \nMardi 23 décembre\n\n9h30 – 12h : Réalise un court-métrage avec des figurines LEGO : le Père Noël qui livre des cadeaux\, une bataille de boules de neige entre minifigs…\nRéserver l’atelier \n14h30 – 17h : Le monde de Noël ! avec des briques LEGO ! Construction collaboratif d’une scène dédiée à l’univers de Noël !\nRéserver l’atelier \nNouveau prix : 25€ l’atelier de 2h30 \nStage complet : 100€\nPossibilité de réserver l’ensemble du stage ici \n\n—————————————————————————————-\nDurée d'un atelier 2h30\nRDV devant le grand logo SO WATT à l’extérieur\n\nRÉSERVATION DE L’ATELIER\n– En réservant et en payant directement en ligne sur  - https://www.billetweb.fr/stage-noel-crea-brick-pixel-stage-1\nOù réserver une place en nous contacter soit par :\n> Mail : brickandnum@gmail.com\n> Via Facebook : http://www.facebook.com/brickandnum\n> Via Instagram : https://www.instagram.com/brick_num/\n> Par téléphone au 06 58 10 65 45\n\nPAIEMENT\n– En ligne via la billetterie de l’évènement\n– Sur place en espèce et en CB
URL:https://www.brickandnum.fr/event/stage-noel-creabrick-pixel-stage-1/
CATEGORIES:BRIQUE,NUMERIQUE
ATTACH;FMTTYPE=image/png:https://www.brickandnum.fr/wp-content/uploads/2025/11/Stage1Noel.webp
END:VEVENT
BEGIN:VEVENT
DTSTART;TZID=Europe/Paris:20251222T143000
DTEND;TZID=Europe/Paris:20251222T170000
DTSTAMP:20260421T134045
CREATED:20251125T090235Z
LAST-MODIFIED:20251126T084118Z
UID:2780-1766413800-1766422800@www.brickandnum.fr
SUMMARY:On revisite le traineau du Père Noël ! Construis une nouvelle version de son traineau avec des briques !
DESCRIPTION:On revisite le traineau du Père Noël ! Construis une nouvelle version de son traineau avec des briques ! \nQui sera le plus fun ? le plus original ? \nUn traineau plutôt classique ? plutôt futuriste ? Viens mettre à l’épreuve ta créativité et ton imagination ! \nPendant cet atelier nous allons :\n– Mettre à l’épreuve notre imagination et notre créativité\n– Construire chacun un traineau revisité !\n– Et surtout s’amuser ! Il  y aura de petits défis briques par ci par là ! \n\n\n\n\nPrix de l’atelier : 25€ \n\n\nDurée de l’atelier 2h30\nRDV devant le grand logo SO WATT à l’extérieur\n\nRÉSERVATION DE L’ATELIER\n– En réservant et en payant directement en ligne ICI\nOù réserver une place en nous contacter soit par :\n> Mail : brickandnum@gmail.com\n> Via Facebook : http://www.facebook.com/brickandnum\n> Via Instagram : https://www.instagram.com/brick_num/\n> Par téléphone au 06 58 10 65 45\n\nPAIEMENT\n– En ligne via la billetterie de l’évènement\n– Sur place en espèce et en CB
URL:https://www.brickandnum.fr/event/on-revisite-le-traineau-du-pere-noel-construis-une-nouvelle-version-de-son-traineau-avec-des-briques/
LOCATION:SO WATT\, 37 avenue du Maréchal de Lattre de Tassigny\, Saint André Lez Lille\, 59350\, France
CATEGORIES:BRIQUE
ATTACH;FMTTYPE=image/png:https://www.brickandnum.fr/wp-content/uploads/2025/11/Banniere-Traineau-brique1.webp
END:VEVENT
END:VCALENDAR