BEGIN:VCALENDAR
VERSION:2.0
PRODID:-//BRICK&amp;NUM - ECPv6.15.14//NONSGML v1.0//EN
CALSCALE:GREGORIAN
METHOD:PUBLISH
X-ORIGINAL-URL:https://www.brickandnum.fr
X-WR-CALDESC:Évènements pour BRICK&amp;NUM
REFRESH-INTERVAL;VALUE=DURATION:PT1H
X-Robots-Tag:noindex
X-PUBLISHED-TTL:PT1H
BEGIN:VTIMEZONE
TZID:Europe/Paris
BEGIN:DAYLIGHT
TZOFFSETFROM:+0100
TZOFFSETTO:+0200
TZNAME:CEST
DTSTART:20240331T010000
END:DAYLIGHT
BEGIN:STANDARD
TZOFFSETFROM:+0200
TZOFFSETTO:+0100
TZNAME:CET
DTSTART:20241027T010000
END:STANDARD
BEGIN:DAYLIGHT
TZOFFSETFROM:+0100
TZOFFSETTO:+0200
TZNAME:CEST
DTSTART:20250330T010000
END:DAYLIGHT
BEGIN:STANDARD
TZOFFSETFROM:+0200
TZOFFSETTO:+0100
TZNAME:CET
DTSTART:20251026T010000
END:STANDARD
BEGIN:DAYLIGHT
TZOFFSETFROM:+0100
TZOFFSETTO:+0200
TZNAME:CEST
DTSTART:20260329T010000
END:DAYLIGHT
BEGIN:STANDARD
TZOFFSETFROM:+0200
TZOFFSETTO:+0100
TZNAME:CET
DTSTART:20261025T010000
END:STANDARD
END:VTIMEZONE
BEGIN:VEVENT
DTSTART;TZID=Europe/Paris:20251029T093000
DTEND;TZID=Europe/Paris:20251029T120000
DTSTAMP:20260425T140059
CREATED:20250929T081410Z
LAST-MODIFIED:20251025T071616Z
UID:2239-1761730200-1761739200@www.brickandnum.fr
SUMMARY:NUMERIQUE - Flocage de tee-shirt & découpe de stickers avec la découpeuse vinyle !
DESCRIPTION:Cet atelier est proposé dans le cadre d’un stage. Il peut être réservé seul ou si vous préférez réserver le stage complet de 4 séances\, retournez dans l’agenda et sélectionner le stage. \nDécouvre la fabrication numérique avec le découpeuse vinyle de BRICK&NUM ! Viens créer et découper un flocage pour un tee-shirt ! (Pense à ramener un tee-shirt vierge à ta taille en coton) et imagine un flocage qui fait peur ou non ! En plus\, nous allons découper des stickers que tu pourra coller où tu veux ! \nTARIF : 30€ \n—————————————————————————————- \n\n\n   Durée de l’atelier 2h30\n   Maximum 8 personnes\n   RDV devant le grand logo SO WATT à l’extérieur\n\n\n\nRESERVATION DE L'ATELIER\n- En réservant et en payant directement en ligne sur https://www.billetweb.fr/flocage-de-tee-shirt-decoupe-de-stickers-avec-la-decoupeuse-vinyle\nOù réserver une place en nous contacter soit par :\n> Mail : brickandnum@gmail.com\n> Via Facebook : http://www.facebook.com/brickandnum\n> Via Instagram : https://www.instagram.com/brick_num/\n> Par téléphone au 06 58 10 65 45\n\nPAIEMENT\n- En ligne via la billetterie de l’évènement\n- Sur place en espèce et en CB
URL:https://www.brickandnum.fr/event/numerique-flocage-de-tee-shirt-decoupe-de-stickers-avec-la-decoupeuse-vinyle/
LOCATION:SO WATT\, 37 avenue du Maréchal de Lattre de Tassigny\, Saint André Lez Lille\, 59350\, France
CATEGORIES:NUMERIQUE
ATTACH;FMTTYPE=image/png:https://www.brickandnum.fr/wp-content/uploads/2025/09/ATELIER-FLOCAGE1.webp
END:VEVENT
END:VCALENDAR