BEGIN:VCALENDAR
VERSION:2.0
PRODID:-//BRICK&amp;NUM - ECPv6.15.14//NONSGML v1.0//EN
CALSCALE:GREGORIAN
METHOD:PUBLISH
X-WR-CALNAME:BRICK&amp;NUM
X-ORIGINAL-URL:https://www.brickandnum.fr
X-WR-CALDESC:Évènements pour BRICK&amp;NUM
REFRESH-INTERVAL;VALUE=DURATION:PT1H
X-Robots-Tag:noindex
X-PUBLISHED-TTL:PT1H
BEGIN:VTIMEZONE
TZID:Europe/Paris
BEGIN:DAYLIGHT
TZOFFSETFROM:+0100
TZOFFSETTO:+0200
TZNAME:CEST
DTSTART:20240331T010000
END:DAYLIGHT
BEGIN:STANDARD
TZOFFSETFROM:+0200
TZOFFSETTO:+0100
TZNAME:CET
DTSTART:20241027T010000
END:STANDARD
BEGIN:DAYLIGHT
TZOFFSETFROM:+0100
TZOFFSETTO:+0200
TZNAME:CEST
DTSTART:20250330T010000
END:DAYLIGHT
BEGIN:STANDARD
TZOFFSETFROM:+0200
TZOFFSETTO:+0100
TZNAME:CET
DTSTART:20251026T010000
END:STANDARD
BEGIN:DAYLIGHT
TZOFFSETFROM:+0100
TZOFFSETTO:+0200
TZNAME:CEST
DTSTART:20260329T010000
END:DAYLIGHT
BEGIN:STANDARD
TZOFFSETFROM:+0200
TZOFFSETTO:+0100
TZNAME:CET
DTSTART:20261025T010000
END:STANDARD
END:VTIMEZONE
BEGIN:VEVENT
DTSTART;TZID=Europe/Paris:20251202T140000
DTEND;TZID=Europe/Paris:20251202T183000
DTSTAMP:20260423T123327
CREATED:20251106T150842Z
LAST-MODIFIED:20251124T092335Z
UID:2712-1764684000-1764700200@www.brickandnum.fr
SUMMARY:ATELIER CANVA POUR LES PRO
DESCRIPTION:APPRENEZ à utiliser CANVA pour VOTRE ACTIVITE \nVous êtes entrepreneur ou une association et vous voulez gagner en impact visuel sans passer par une agence ?\nCet atelier DÉBUTANT est fait pour vous. \n \nEn 4 heures\, apprenez à : \n\nCréer des visuels professionnels pour vos réseaux sociaux\, présentations et flyers\nMaitriser les fonctionnalités clés de Canva\, même sans compétences en design\nGagner du temps avec des modèles efficaces et personnalisables\nRenforcer votre image de marque avec cohérence et créativité\n\n💡 Repartez avec des visuels prêts à l’emploi et les compétences pour continuer à créer en toute autonomie. \nTARIF : 150€ pour 4 heures d’ateliers\n+ 1 heure d’accompagnement individuel à distance (visio ou téléphone) \nRéservation sur : https://www.billetweb.fr/atelier-canva-pour-les-pro \nPour toutes informations et inscriptions contactez-moi via la page Contact
URL:https://www.brickandnum.fr/event/atelier-canvo-pour-les-pro/
LOCATION:SO WATT\, 37 avenue du Maréchal de Lattre de Tassigny\, Saint André Lez Lille\, 59350\, France
CATEGORIES:NUMERIQUE
ATTACH;FMTTYPE=image/png:https://www.brickandnum.fr/wp-content/uploads/2025/11/Banniere-Canva-Pro-site.webp
END:VEVENT
END:VCALENDAR