BEGIN:VCALENDAR
VERSION:2.0
PRODID:-//BRICK&amp;NUM - ECPv6.15.14//NONSGML v1.0//EN
CALSCALE:GREGORIAN
METHOD:PUBLISH
X-WR-CALNAME:BRICK&amp;NUM
X-ORIGINAL-URL:https://www.brickandnum.fr
X-WR-CALDESC:Évènements pour BRICK&amp;NUM
REFRESH-INTERVAL;VALUE=DURATION:PT1H
X-Robots-Tag:noindex
X-PUBLISHED-TTL:PT1H
BEGIN:VTIMEZONE
TZID:Europe/Paris
BEGIN:DAYLIGHT
TZOFFSETFROM:+0100
TZOFFSETTO:+0200
TZNAME:CEST
DTSTART:20240331T010000
END:DAYLIGHT
BEGIN:STANDARD
TZOFFSETFROM:+0200
TZOFFSETTO:+0100
TZNAME:CET
DTSTART:20241027T010000
END:STANDARD
BEGIN:DAYLIGHT
TZOFFSETFROM:+0100
TZOFFSETTO:+0200
TZNAME:CEST
DTSTART:20250330T010000
END:DAYLIGHT
BEGIN:STANDARD
TZOFFSETFROM:+0200
TZOFFSETTO:+0100
TZNAME:CET
DTSTART:20251026T010000
END:STANDARD
BEGIN:DAYLIGHT
TZOFFSETFROM:+0100
TZOFFSETTO:+0200
TZNAME:CEST
DTSTART:20260329T010000
END:DAYLIGHT
BEGIN:STANDARD
TZOFFSETFROM:+0200
TZOFFSETTO:+0100
TZNAME:CET
DTSTART:20261025T010000
END:STANDARD
END:VTIMEZONE
BEGIN:VEVENT
DTSTART;TZID=Europe/Paris:20251229T080000
DTEND;TZID=Europe/Paris:20251230T170000
DTSTAMP:20260421T150450
CREATED:20251124T144348Z
LAST-MODIFIED:20251125T084052Z
UID:2748-1766995200-1767114000@www.brickandnum.fr
SUMMARY:Stage Noël “Créa’Brick & Pixel” – Stage 2
DESCRIPTION:Le stage 2 – Créa’Brick & Pixel –QUELLE ANNÉE ! se déroule sur 2 jours soit 4 demi-journée.\nNotez bien les dates de celui-ci ci-dessous : \nLundi 29 Décembre\n \n9h30 – 12h : Viens t’amuser à faire du doublage de dessin animé et de films de Noël !\nRéserver l’atelier \n14h30 – 17h : ”Monstre de Noël”. Créons des créatures hybrides (renne-robot\, bonhomme de neige mutant\, lutins steampunk…)\nRéserver l’atelier \nMardi 30 décembre\n \n9h30 – 12h : Viens découvrir l’outil Canva et crée tes cartes de la bonne année ! pour envoyer à tes amis et à ta famille.\nApprends à utiliser l’IA !\nRéserver l’atelier \n14h30 – 17h : Qu’est-ce que l’on construit pour 2026 ? Crée le mini monde parfait pour cette nouvelle année !\nA quoi ressemble ta planète parfaite ?\nRéserver l’atelier \nNouveau prix : 25€ l’atelier de 2h30 \nPossibilité de réserver l’ensemble du stage ici \n\n—————————————————————————————-\nDurée d'un atelier 2h30\nRDV devant le grand logo SO WATT à l’extérieur\n\nRÉSERVATION DE L’ATELIER\n– En réservant et en payant directement en ligne sur https://www.billetweb.fr/stage-noel-crea-brick-pixel-stage-2\nOù réserver une place en nous contacter soit par :\n> Mail : brickandnum@gmail.com\n> Via Facebook : http://www.facebook.com/brickandnum\n> Via Instagram : https://www.instagram.com/brick_num/\n> Par téléphone au 06 58 10 65 45\n\nPAIEMENT\n– En ligne via la billetterie de l’évènement\n– Sur place en espèce et en CB
URL:https://www.brickandnum.fr/event/stage-noel-creabrick-pixel-stage-2/
CATEGORIES:BRIQUE,NUMERIQUE
ATTACH;FMTTYPE=image/png:https://www.brickandnum.fr/wp-content/uploads/2025/11/Stage2Noel2.webp
END:VEVENT
BEGIN:VEVENT
DTSTART;TZID=Europe/Paris:20251230T093000
DTEND;TZID=Europe/Paris:20251230T120000
DTSTAMP:20260421T150450
CREATED:20251125T093109Z
LAST-MODIFIED:20251125T093109Z
UID:2800-1767087000-1767096000@www.brickandnum.fr
SUMMARY:Viens découvrir l’outil Canva et crée tes cartes de la bonne année !
DESCRIPTION:Canva est devenu l’outil numéro pour la création et la mise en page graphique. On peut tout faire dessus : créer un logo\, mettre en page une affiche\, une carte d’anniversaire\, faire du montage vidéo etc… \nDans cet atelier\, nous allons apprendre les bases de Canva pour que tu puisse créer des cartes de vœux pour la nouvelle année qui pointe le bout de son nez ! \nEn plus trop bien\, c’est un outil que tu pourra réutiliser pour la vie de tous les jours et même pour l’école ! \nPendant cet atelier nous allons :\n– Apprendre à utiliser l’outil Canva\n– Découvrir des outils d’IA\n– Mettre en page plusieurs cartes de voeux\n– Et surtout s’amuser ! Il  y aura de petits défis briques par ci par là ! \n\n\n\n\nPrix de l’atelier : 25€ \n\n\nDurée de l’atelier 2h30\nRDV devant le grand logo SO WATT à l’extérieur\n\nRÉSERVATION DE L’ATELIER\n– En réservant et en payant directement en ligne ICI\nOù réserver une place en nous contacter soit par :\n> Mail : brickandnum@gmail.com\n> Via Facebook : http://www.facebook.com/brickandnum\n> Via Instagram : https://www.instagram.com/brick_num/\n> Par téléphone au 06 58 10 65 45\n\nPAIEMENT\n– En ligne via la billetterie de l’évènement\n– Sur place en espèce et en CB
URL:https://www.brickandnum.fr/event/viens-decouvrir-loutil-canva-et-cree-tes-cartes-de-la-bonne-annee/
LOCATION:SO WATT\, 37 avenue du Maréchal de Lattre de Tassigny\, Saint André Lez Lille\, 59350\, France
CATEGORIES:NUMERIQUE
END:VEVENT
END:VCALENDAR