BEGIN:VCALENDAR
VERSION:2.0
PRODID:-//BRICK&amp;NUM - ECPv6.15.14//NONSGML v1.0//EN
CALSCALE:GREGORIAN
METHOD:PUBLISH
X-ORIGINAL-URL:https://www.brickandnum.fr
X-WR-CALDESC:Évènements pour BRICK&amp;NUM
REFRESH-INTERVAL;VALUE=DURATION:PT1H
X-Robots-Tag:noindex
X-PUBLISHED-TTL:PT1H
BEGIN:VTIMEZONE
TZID:Europe/Paris
BEGIN:DAYLIGHT
TZOFFSETFROM:+0100
TZOFFSETTO:+0200
TZNAME:CEST
DTSTART:20250330T010000
END:DAYLIGHT
BEGIN:STANDARD
TZOFFSETFROM:+0200
TZOFFSETTO:+0100
TZNAME:CET
DTSTART:20251026T010000
END:STANDARD
BEGIN:DAYLIGHT
TZOFFSETFROM:+0100
TZOFFSETTO:+0200
TZNAME:CEST
DTSTART:20260329T010000
END:DAYLIGHT
BEGIN:STANDARD
TZOFFSETFROM:+0200
TZOFFSETTO:+0100
TZNAME:CET
DTSTART:20261025T010000
END:STANDARD
BEGIN:DAYLIGHT
TZOFFSETFROM:+0100
TZOFFSETTO:+0200
TZNAME:CEST
DTSTART:20270328T010000
END:DAYLIGHT
BEGIN:STANDARD
TZOFFSETFROM:+0200
TZOFFSETTO:+0100
TZNAME:CET
DTSTART:20271031T010000
END:STANDARD
END:VTIMEZONE
BEGIN:VEVENT
DTSTART;TZID=Europe/Paris:20260218T093000
DTEND;TZID=Europe/Paris:20260219T170000
DTSTAMP:20260421T134053
CREATED:20260125T222755Z
LAST-MODIFIED:20260125T225202Z
UID:2878-1771407000-1771520400@www.brickandnum.fr
SUMMARY:Stage 1 - Les Mondes Fantastiques d’Hiver
DESCRIPTION:BRICK&NUM vous propose un stage de deux jours pour découvrir le monde des briques et du numérique et cela de façon ludique & amusante. \nDéroulé du stage : \nMercredi 18 Février \n\n9h30 – 12h : Programme avec SCRATCH ton 1er jeu vidéo shoot’em up avec un dragon qui crache du feu !\n14h30 – 17h : À partir d’une figurine mystère\, imagine et construis avec des briques LEGO® une scène épique digne des plus grandes aventures… Puis donne vie à ton héros en racontant son histoire !\n\nJeudi 19 Février \n\n9h30 – 12h : Viens imaginer et construire avec des briques LEGO® un être enchanté\, un perso végétal ou une créature magique inspiré du monde de l’Heroic Fantasy.\n14h30 – 17h : Dans le style MINECRAFT\, viens imaginer un monde magique et joint le à celui du groupe pour créer un monde imaginaire !\n\n\nPrix du stage : 100€ / Prix de l’atelier seul : 25€ \n\n\nDurée des ateliers : 2h30\nRDV devant le grand logo SO WATT à l’extérieur ou dans le hall d'accueil.\n\nRÉSERVATION DU STAGE OU DE L’ATELIER\n– En réservant et en payant directement en ligne ICI\nSélectionner le stage complet ou l'atelier désiré.\nOù réserver une place en nous contacter soit par :\n> Mail : brickandnum@gmail.com\n> Via Facebook : http://www.facebook.com/brickandnum\n> Via Instagram : https://www.instagram.com/brick_num/\n> Par téléphone au 06 58 10 65 45\n\nPAIEMENT\n– En ligne via la billetterie de l’évènement sur notre boutique SUMUP\n– Sur place en espèce et en CB
URL:https://www.brickandnum.fr/event/stage-1-les-mondes-fantastiques-dhiver/
LOCATION:SO WATT\, 37 avenue du Maréchal de Lattre de Tassigny\, Saint André Lez Lille\, 59350\, France
CATEGORIES:BRIQUE,NUMERIQUE
ATTACH;FMTTYPE=image/png:https://www.brickandnum.fr/wp-content/uploads/2026/01/Stage11.webp
END:VEVENT
END:VCALENDAR