BEGIN:VCALENDAR
VERSION:2.0
PRODID:-//BRICK&amp;NUM - ECPv6.15.14//NONSGML v1.0//EN
CALSCALE:GREGORIAN
METHOD:PUBLISH
X-ORIGINAL-URL:https://www.brickandnum.fr
X-WR-CALDESC:Évènements pour BRICK&amp;NUM
REFRESH-INTERVAL;VALUE=DURATION:PT1H
X-Robots-Tag:noindex
X-PUBLISHED-TTL:PT1H
BEGIN:VTIMEZONE
TZID:Europe/Paris
BEGIN:DAYLIGHT
TZOFFSETFROM:+0100
TZOFFSETTO:+0200
TZNAME:CEST
DTSTART:20250330T010000
END:DAYLIGHT
BEGIN:STANDARD
TZOFFSETFROM:+0200
TZOFFSETTO:+0100
TZNAME:CET
DTSTART:20251026T010000
END:STANDARD
BEGIN:DAYLIGHT
TZOFFSETFROM:+0100
TZOFFSETTO:+0200
TZNAME:CEST
DTSTART:20260329T010000
END:DAYLIGHT
BEGIN:STANDARD
TZOFFSETFROM:+0200
TZOFFSETTO:+0100
TZNAME:CET
DTSTART:20261025T010000
END:STANDARD
BEGIN:DAYLIGHT
TZOFFSETFROM:+0100
TZOFFSETTO:+0200
TZNAME:CEST
DTSTART:20270328T010000
END:DAYLIGHT
BEGIN:STANDARD
TZOFFSETFROM:+0200
TZOFFSETTO:+0100
TZNAME:CET
DTSTART:20271031T010000
END:STANDARD
END:VTIMEZONE
BEGIN:VEVENT
DTSTART;TZID=Europe/Paris:20260414T093000
DTEND;TZID=Europe/Paris:20260414T120000
DTSTAMP:20260421T103708
CREATED:20260330T121856Z
LAST-MODIFIED:20260330T140154Z
UID:2966-1776159000-1776168000@www.brickandnum.fr
SUMMARY:Atelier Numérique : Programme un 1er jeu vidéo de plate-forme avec Scratch
DESCRIPTION:Programme ton 1er jeu vidéo ! \nA l’aide du logiciel de programmation « Scratch »\, nous allons pendant ces 2h30\, apprendre ensemble à programmer un jeu vidéo ! Pour cet atelier\, nous allons nous attarder sur le style de jeu de plate-forme. \nPendant cet atelier\, tu va découvrir qu’un jeu vidéo n’est pas si facile ! Il faut un personnage\, le programmer pour qu’il réponde à des touches\, ajouter des bruitages\, de la musique\, un score peut-être ? ou encore imaginer un scénario pour le jeu. \nTu pourra repartir avec un lie qui te permettra de le montrer à tes amis et à ta famille. Ce même lien pourra te permettre\, si tu en as l’envie\, de le continuer… \nAu programme \n\nBase de la programmation informatique\nInitiation au graphisme 2D\nLogique & réfléxion\n\nUn atelier idéal pour développer voir le jeu vidéo autrement ! \nTARIF : 25€ \n—————————————————————————————-\nDurée de l’atelier 2h30\nRDV devant le grand logo SO WATT à l’extérieur dans la cour \nRÉSERVATION DE L’ATELIER\n– En réservant et en payant directement en ligne ICI\nOù réserver une place en nous contacter soit par :\n> Mail : brickandnum@gmail.com\n> Via Facebook : http://www.facebook.com/brickandnum\n> Via Instagram : https://www.instagram.com/brick_num/\n> Par téléphone au 06 58 10 65 45\n\nPAIEMENT\n– En ligne via la billetterie de l’évènement\n– Sur place en espèce et en CB
URL:https://www.brickandnum.fr/event/atelier-numerique-programme-un-1er-jeu-video-de-plate-forme-avec-scratch/
CATEGORIES:NUMERIQUE
ATTACH;FMTTYPE=image/png:https://www.brickandnum.fr/wp-content/uploads/2026/03/Scratch-14avril.webp
END:VEVENT
END:VCALENDAR